Package: qPLEXanalyzer Version: 1.28.0 Maintainer: Ashley Sawle MaintainerEmail: ads2202cu at gmail.com git_url: https://git.bioconductor.org/packages/qPLEXanalyzer git_branch: RELEASE_3_22 git_last_commit: 73100d7 git_last_commit_date: 2025-10-29 10:46:08 -0400 (Wed, 29 Oct 2025)