Package: pwalign Version: 1.6.0 Command: /home/biocbuild/R/R/bin/R CMD build --keep-empty-dirs --no-resave-data pwalign StartedAt: 2025-11-18 04:11:24 -0000 (Tue, 18 Nov 2025) EndedAt: 2025-11-18 04:12:31 -0000 (Tue, 18 Nov 2025) EllapsedTime: 67.1 seconds RetCode: 0 Status: OK PackageFile: pwalign_1.6.0.tar.gz PackageFileSize: 339.4 KiB