Package: pwalign Version: 1.4.0 Command: /home/biocbuild/bbs-3.21-bioc/R/bin/R CMD INSTALL pwalign StartedAt: 2025-10-15 15:48:23 -0400 (Wed, 15 Oct 2025) EndedAt: 2025-10-15 15:48:38 -0400 (Wed, 15 Oct 2025) EllapsedTime: 15.2 seconds RetCode: 0 Status: OK