Package: pwalign Version: 1.4.0 Command: /home/biocbuild/bbs-3.21-bioc/R/bin/R CMD build --keep-empty-dirs --no-resave-data pwalign StartedAt: 2025-10-15 19:16:32 -0400 (Wed, 15 Oct 2025) EndedAt: 2025-10-15 19:17:28 -0400 (Wed, 15 Oct 2025) EllapsedTime: 56.0 seconds RetCode: 0 Status: OK PackageFile: pwalign_1.4.0.tar.gz PackageFileSize: 346.5 KiB