Package: pwalign Version: 1.6.0 Command: /Library/Frameworks/R.framework/Resources/bin/R CMD INSTALL pwalign StartedAt: 2025-11-20 17:14:56 -0500 (Thu, 20 Nov 2025) EndedAt: 2025-11-20 17:15:30 -0500 (Thu, 20 Nov 2025) EllapsedTime: 34.3 seconds RetCode: 0 Status: OK