Package: pwalign Version: 1.6.0 Command: /Library/Frameworks/R.framework/Resources/bin/R CMD build --keep-empty-dirs --no-resave-data pwalign StartedAt: 2025-11-20 22:50:29 -0500 (Thu, 20 Nov 2025) EndedAt: 2025-11-20 22:52:24 -0500 (Thu, 20 Nov 2025) EllapsedTime: 114.7 seconds RetCode: 0 Status: OK PackageFile: pwalign_1.6.0.tar.gz PackageFileSize: 344.3 KiB