Package: pwalign Version: 1.6.0 Command: rm -rf pwalign.buildbin-libdir && mkdir pwalign.buildbin-libdir && /Users/biocbuild/BBS/utils/build-universal.sh pwalign_1.6.0.tar.gz /Library/Frameworks/R.framework/Resources/bin/R pwalign.buildbin-libdir StartedAt: 2025-11-25 15:00:58 -0500 (Tue, 25 Nov 2025) EndedAt: 2025-11-25 15:01:36 -0500 (Tue, 25 Nov 2025) EllapsedTime: 38.1 seconds RetCode: 0 Status: OK PackageFile: pwalign_1.6.0.tgz PackageFileSize: 754.8 KiB