Package: pwalign Version: 1.4.0 Command: /Library/Frameworks/R.framework/Resources/bin/R CMD INSTALL pwalign StartedAt: 2025-10-13 17:55:46 -0400 (Mon, 13 Oct 2025) EndedAt: 2025-10-13 17:56:04 -0400 (Mon, 13 Oct 2025) EllapsedTime: 17.6 seconds RetCode: 0 Status: OK