Package: pwalign Version: 1.4.0 Command: /Library/Frameworks/R.framework/Resources/bin/R CMD build --keep-empty-dirs --no-resave-data pwalign StartedAt: 2025-10-14 07:02:56 -0400 (Tue, 14 Oct 2025) EndedAt: 2025-10-14 07:04:16 -0400 (Tue, 14 Oct 2025) EllapsedTime: 80.1 seconds RetCode: 0 Status: OK PackageFile: pwalign_1.4.0.tar.gz PackageFileSize: 346.2 KiB