Package: pwalign Version: 1.4.0 Command: rm -rf pwalign.buildbin-libdir && mkdir pwalign.buildbin-libdir && /Users/biocbuild/BBS/utils/build-universal.sh pwalign_1.4.0.tar.gz /Library/Frameworks/R.framework/Resources/bin/R pwalign.buildbin-libdir StartedAt: 2025-10-15 19:54:13 -0400 (Wed, 15 Oct 2025) EndedAt: 2025-10-15 19:54:34 -0400 (Wed, 15 Oct 2025) EllapsedTime: 20.3 seconds RetCode: 0 Status: OK PackageFile: pwalign_1.4.0.tgz PackageFileSize: 754.9 KiB