Package: pvca Version: 1.50.0 Command: /home/biocbuild/bbs-3.22-bioc/R/bin/R CMD build --keep-empty-dirs --no-resave-data --md5 pvca StartedAt: 2025-11-13 19:31:31 -0500 (Thu, 13 Nov 2025) EndedAt: 2025-11-13 19:31:51 -0500 (Thu, 13 Nov 2025) EllapsedTime: 20.0 seconds RetCode: 0 Status: OK PackageFile: pvca_1.50.0.tar.gz PackageFileSize: 219.1 KiB