Package: puma Version: 3.52.0 Command: /home/biocbuild/bbs-3.22-bioc/R/bin/R CMD INSTALL puma StartedAt: 2025-11-17 17:29:57 -0500 (Mon, 17 Nov 2025) EndedAt: 2025-11-17 17:30:42 -0500 (Mon, 17 Nov 2025) EllapsedTime: 44.6 seconds RetCode: 0 Status: OK