Package: ptairMS Version: 1.18.0 Command: /home/biocbuild/bbs-3.22-bioc/R/bin/R CMD INSTALL ptairMS StartedAt: 2025-11-02 15:52:01 -0500 (Sun, 02 Nov 2025) EndedAt: 2025-11-02 15:52:22 -0500 (Sun, 02 Nov 2025) EllapsedTime: 21.1 seconds RetCode: 0 Status: OK