Package: ptairMS Version: 1.18.0 Command: /home/biocbuild/bbs-3.22-bioc/R/bin/R CMD build --keep-empty-dirs --no-resave-data --md5 ptairMS StartedAt: 2025-11-02 19:40:52 -0500 (Sun, 02 Nov 2025) EndedAt: 2025-11-02 19:43:39 -0500 (Sun, 02 Nov 2025) EllapsedTime: 167.2 seconds RetCode: 0 Status: OK PackageFile: ptairMS_1.18.0.tar.gz PackageFileSize: 3.412 MiB