Package: psichomics Version: 1.36.0 Command: /home/biocbuild/bbs-3.22-bioc/R/bin/R CMD INSTALL psichomics StartedAt: 2025-11-14 16:01:42 -0500 (Fri, 14 Nov 2025) EndedAt: 2025-11-14 16:03:06 -0500 (Fri, 14 Nov 2025) EllapsedTime: 84.6 seconds RetCode: 0 Status: OK