Package: psichomics Version: 1.36.0 Command: /home/biocbuild/bbs-3.22-bioc/R/bin/R CMD build --keep-empty-dirs --no-resave-data --md5 psichomics StartedAt: 2025-11-14 19:31:40 -0500 (Fri, 14 Nov 2025) EndedAt: 2025-11-14 19:33:31 -0500 (Fri, 14 Nov 2025) EllapsedTime: 111.1 seconds RetCode: 0 Status: OK PackageFile: psichomics_1.36.0.tar.gz PackageFileSize: 6.137 MiB