Package: proteinProfiles Version: 1.50.0 Command: /home/biocbuild/bbs-3.22-bioc/R/bin/R CMD INSTALL proteinProfiles StartedAt: 2025-11-06 15:10:11 -0500 (Thu, 06 Nov 2025) EndedAt: 2025-11-06 15:10:29 -0500 (Thu, 06 Nov 2025) EllapsedTime: 17.6 seconds RetCode: 0 Status: OK