Package: proteinProfiles Version: 1.50.0 Command: /home/biocbuild/bbs-3.22-bioc/R/bin/R CMD build --keep-empty-dirs --no-resave-data --md5 proteinProfiles StartedAt: 2025-11-06 19:24:27 -0500 (Thu, 06 Nov 2025) EndedAt: 2025-11-06 19:24:38 -0500 (Thu, 06 Nov 2025) EllapsedTime: 11.0 seconds RetCode: 0 Status: OK PackageFile: proteinProfiles_1.50.0.tar.gz PackageFileSize: 384.7 KiB