Package: protGear Version: 1.14.0 Command: /home/biocbuild/bbs-3.22-bioc/R/bin/R CMD build --keep-empty-dirs --no-resave-data --md5 protGear StartedAt: 2025-11-11 19:31:17 -0500 (Tue, 11 Nov 2025) EndedAt: 2025-11-11 19:32:23 -0500 (Tue, 11 Nov 2025) EllapsedTime: 66.1 seconds RetCode: 0 Status: OK PackageFile: protGear_1.14.0.tar.gz PackageFileSize: 4.75 MiB