Package: protGear Version: 1.14.0 Command: /Library/Frameworks/R.framework/Resources/bin/R CMD INSTALL protGear StartedAt: 2025-11-03 15:30:34 -0500 (Mon, 03 Nov 2025) EndedAt: 2025-11-03 15:31:08 -0500 (Mon, 03 Nov 2025) EllapsedTime: 34.9 seconds RetCode: 0 Status: OK