Package: protGear Version: 1.14.0 Command: /Library/Frameworks/R.framework/Resources/bin/R CMD build --keep-empty-dirs --no-resave-data protGear StartedAt: 2025-11-03 18:19:09 -0500 (Mon, 03 Nov 2025) EndedAt: 2025-11-03 18:20:21 -0500 (Mon, 03 Nov 2025) EllapsedTime: 71.8 seconds RetCode: 0 Status: OK PackageFile: protGear_1.14.0.tar.gz PackageFileSize: 5.051 MiB