Package: protGear Version: 1.14.0 Command: rm -rf protGear.buildbin-libdir && mkdir protGear.buildbin-libdir && /Users/biocbuild/BBS/utils/build-universal.sh protGear_1.14.0.tar.gz /Library/Frameworks/R.framework/Resources/bin/R protGear.buildbin-libdir StartedAt: 2025-11-04 01:57:01 -0500 (Tue, 04 Nov 2025) EndedAt: 2025-11-04 01:57:43 -0500 (Tue, 04 Nov 2025) EllapsedTime: 41.6 seconds RetCode: 0 Status: OK PackageFile: protGear_1.14.0.tgz PackageFileSize: 3.95 MiB