Package: protGear Version: 1.12.0 Command: /home/biocbuild/R/R/bin/R CMD INSTALL protGear StartedAt: 2025-10-09 20:43:13 -0000 (Thu, 09 Oct 2025) EndedAt: 2025-10-09 20:43:49 -0000 (Thu, 09 Oct 2025) EllapsedTime: 35.6 seconds RetCode: 0 Status: OK