Package: protGear Version: 1.12.0 Command: /home/biocbuild/R/R/bin/R CMD build --keep-empty-dirs --no-resave-data protGear StartedAt: 2025-10-10 03:38:07 -0000 (Fri, 10 Oct 2025) EndedAt: 2025-10-10 03:39:40 -0000 (Fri, 10 Oct 2025) EllapsedTime: 93.0 seconds RetCode: 0 Status: OK PackageFile: protGear_1.12.0.tar.gz PackageFileSize: 4.506 MiB