Package: protGear Version: 1.12.0 Command: /Library/Frameworks/R.framework/Resources/bin/R CMD build --keep-empty-dirs --no-resave-data protGear StartedAt: 2025-04-21 17:19:47 -0400 (Mon, 21 Apr 2025) EndedAt: 2025-04-21 17:20:13 -0400 (Mon, 21 Apr 2025) EllapsedTime: 25.3 seconds RetCode: 0 Status: OK PackageFile: protGear_1.12.0.tar.gz PackageFileSize: 5.038 MiB