Package: projectR Version: 1.26.0 Command: /home/biocbuild/R/R/bin/R CMD INSTALL projectR StartedAt: 2025-11-10 21:28:20 -0000 (Mon, 10 Nov 2025) EndedAt: 2025-11-10 21:29:08 -0000 (Mon, 10 Nov 2025) EllapsedTime: 47.7 seconds RetCode: 0 Status: OK