Package: projectR Version: 1.26.0 Command: /home/biocbuild/R/R/bin/R CMD build --keep-empty-dirs --no-resave-data projectR StartedAt: 2025-11-11 04:13:56 -0000 (Tue, 11 Nov 2025) EndedAt: 2025-11-11 04:16:34 -0000 (Tue, 11 Nov 2025) EllapsedTime: 158.1 seconds RetCode: 0 Status: OK PackageFile: projectR_1.26.0.tar.gz PackageFileSize: 5.221 MiB