Package: projectR Version: 1.26.0 Command: /home/biocbuild/bbs-3.22-bioc/R/bin/R CMD INSTALL projectR StartedAt: 2025-11-13 15:21:35 -0500 (Thu, 13 Nov 2025) EndedAt: 2025-11-13 15:22:08 -0500 (Thu, 13 Nov 2025) EllapsedTime: 32.9 seconds RetCode: 0 Status: OK