Package: projectR Version: 1.24.0 Command: /Library/Frameworks/R.framework/Resources/bin/R CMD INSTALL projectR StartedAt: 2025-10-13 15:38:17 -0400 (Mon, 13 Oct 2025) EndedAt: 2025-10-13 15:39:28 -0400 (Mon, 13 Oct 2025) EllapsedTime: 71.5 seconds RetCode: 0 Status: OK