Package: projectR Version: 1.24.0 Command: /Library/Frameworks/R.framework/Resources/bin/R CMD build --keep-empty-dirs --no-resave-data projectR StartedAt: 2025-10-13 21:41:00 -0400 (Mon, 13 Oct 2025) EndedAt: 2025-10-13 21:45:07 -0400 (Mon, 13 Oct 2025) EllapsedTime: 246.9 seconds RetCode: 0 Status: OK PackageFile: projectR_1.24.0.tar.gz PackageFileSize: 5.906 MiB