Package: projectR Version: 1.24.0 Command: rm -rf projectR.buildbin-libdir && mkdir projectR.buildbin-libdir && /Users/biocbuild/BBS/utils/build-universal.sh projectR_1.24.0.tar.gz /Library/Frameworks/R.framework/Resources/bin/R projectR.buildbin-libdir StartedAt: 2025-10-14 14:25:29 -0400 (Tue, 14 Oct 2025) EndedAt: 2025-10-14 14:27:04 -0400 (Tue, 14 Oct 2025) EllapsedTime: 94.9 seconds RetCode: 0 Status: OK PackageFile: projectR_1.24.0.tgz PackageFileSize: 7.378 MiB