Package: progeny Version: 1.32.0 Command: /home/biocbuild/bbs-3.22-bioc/R/bin/R CMD INSTALL progeny StartedAt: 2025-11-20 16:03:01 -0500 (Thu, 20 Nov 2025) EndedAt: 2025-11-20 16:03:10 -0500 (Thu, 20 Nov 2025) EllapsedTime: 9.6 seconds RetCode: 0 Status: OK