Package: progeny Version: 1.32.0 Command: /home/biocbuild/bbs-3.22-bioc/R/bin/R CMD build --keep-empty-dirs --no-resave-data --md5 progeny StartedAt: 2025-11-20 20:12:40 -0500 (Thu, 20 Nov 2025) EndedAt: 2025-11-20 20:12:58 -0500 (Thu, 20 Nov 2025) EllapsedTime: 18.0 seconds RetCode: 0 Status: OK PackageFile: progeny_1.32.0.tar.gz PackageFileSize: 10.15 MiB