Package: profileplyr Version: 1.26.0 Command: /Library/Frameworks/R.framework/Resources/bin/R CMD build --keep-empty-dirs --no-resave-data profileplyr StartedAt: 2025-11-10 17:24:03 -0500 (Mon, 10 Nov 2025) EndedAt: 2025-11-10 17:25:09 -0500 (Mon, 10 Nov 2025) EllapsedTime: 65.8 seconds RetCode: 0 Status: OK PackageFile: profileplyr_1.26.0.tar.gz PackageFileSize: 2.49 MiB