Package: profileScoreDist Version: 1.38.0 Command: /home/biocbuild/R/R/bin/R CMD INSTALL profileScoreDist StartedAt: 2025-11-10 21:17:19 -0000 (Mon, 10 Nov 2025) EndedAt: 2025-11-10 21:17:36 -0000 (Mon, 10 Nov 2025) EllapsedTime: 16.7 seconds RetCode: 0 Status: OK