Package: profileScoreDist Version: 1.38.0 Command: /home/biocbuild/R/R/bin/R CMD build --keep-empty-dirs --no-resave-data profileScoreDist StartedAt: 2025-11-11 04:13:31 -0000 (Tue, 11 Nov 2025) EndedAt: 2025-11-11 04:13:56 -0000 (Tue, 11 Nov 2025) EllapsedTime: 25.0 seconds RetCode: 0 Status: OK PackageFile: profileScoreDist_1.38.0.tar.gz PackageFileSize: 178.8 KiB