Package: profileScoreDist Version: 1.38.0 Command: /home/biocbuild/bbs-3.22-bioc/R/bin/R CMD check --install=check:profileScoreDist.install-out.txt --library=/home/biocbuild/bbs-3.22-bioc/R/site-library --timings profileScoreDist_1.38.0.tar.gz StartedAt: 2025-11-12 02:56:38 -0500 (Wed, 12 Nov 2025) EndedAt: 2025-11-12 03:00:01 -0500 (Wed, 12 Nov 2025) EllapsedTime: 203.1 seconds RetCode: 0 Status: OK CheckDir: profileScoreDist.Rcheck Warnings: 0