Package: profileScoreDist Version: 1.36.0 Command: /Library/Frameworks/R.framework/Resources/bin/R CMD INSTALL profileScoreDist StartedAt: 2025-10-06 15:18:25 -0400 (Mon, 06 Oct 2025) EndedAt: 2025-10-06 15:18:48 -0400 (Mon, 06 Oct 2025) EllapsedTime: 22.8 seconds RetCode: 0 Status: OK