Package: profileScoreDist Version: 1.36.0 Command: rm -rf profileScoreDist.buildbin-libdir && mkdir profileScoreDist.buildbin-libdir && /Users/biocbuild/BBS/utils/build-universal.sh profileScoreDist_1.36.0.tar.gz /Library/Frameworks/R.framework/Resources/bin/R profileScoreDist.buildbin-libdir StartedAt: 2025-10-07 14:10:14 -0400 (Tue, 07 Oct 2025) EndedAt: 2025-10-07 14:10:54 -0400 (Tue, 07 Oct 2025) EllapsedTime: 39.8 seconds RetCode: 0 Status: OK PackageFile: profileScoreDist_1.36.0.tgz PackageFileSize: 355.9 KiB