Package: procoil Version: 2.36.0 Command: /home/biocbuild/bbs-3.21-bioc/R/bin/R CMD build --keep-empty-dirs --no-resave-data procoil StartedAt: 2025-10-15 19:13:34 -0400 (Wed, 15 Oct 2025) EndedAt: 2025-10-15 19:14:11 -0400 (Wed, 15 Oct 2025) EllapsedTime: 37.0 seconds RetCode: 0 Status: OK PackageFile: procoil_2.36.0.tar.gz PackageFileSize: 1.306 MiB