Package: procoil Version: 2.36.0 Command: /home/biocbuild/R/R/bin/R CMD INSTALL procoil StartedAt: 2025-10-02 20:30:30 -0000 (Thu, 02 Oct 2025) EndedAt: 2025-10-02 20:31:06 -0000 (Thu, 02 Oct 2025) EllapsedTime: 36.1 seconds RetCode: 0 Status: OK