Package: procoil Version: 2.36.0 Command: /home/biocbuild/R/R/bin/R CMD build --keep-empty-dirs --no-resave-data procoil StartedAt: 2025-10-03 03:37:27 -0000 (Fri, 03 Oct 2025) EndedAt: 2025-10-03 03:38:18 -0000 (Fri, 03 Oct 2025) EllapsedTime: 51.0 seconds RetCode: 0 Status: OK PackageFile: procoil_2.36.0.tar.gz PackageFileSize: 1.298 MiB