Package: procoil Version: 2.36.0 Command: rm -rf procoil.buildbin-libdir && mkdir procoil.buildbin-libdir && /Users/biocbuild/BBS/utils/build-universal.sh procoil_2.36.0.tar.gz /Library/Frameworks/R.framework/Resources/bin/R procoil.buildbin-libdir StartedAt: 2025-10-15 19:51:35 -0400 (Wed, 15 Oct 2025) EndedAt: 2025-10-15 19:52:08 -0400 (Wed, 15 Oct 2025) EllapsedTime: 33.0 seconds RetCode: 0 Status: OK PackageFile: procoil_2.36.0.tgz PackageFileSize: 1.596 MiB