Package: procoil Version: 2.38.0 Maintainer: Ulrich Bodenhofer MaintainerEmail: ulrich at bodenhofer.com git_url: https://git.bioconductor.org/packages/procoil git_branch: RELEASE_3_22 git_last_commit: e9b34f9 git_last_commit_date: 2025-10-29 10:06:44 -0400 (Wed, 29 Oct 2025)