Package: proDA Version: 1.24.0 Command: /home/biocbuild/R/R/bin/R CMD INSTALL proDA StartedAt: 2025-11-13 21:43:46 -0000 (Thu, 13 Nov 2025) EndedAt: 2025-11-13 21:44:14 -0000 (Thu, 13 Nov 2025) EllapsedTime: 27.7 seconds RetCode: 0 Status: OK