Package: proDA Version: 1.22.1 Command: /home/biocbuild/bbs-3.21-bioc/R/bin/R CMD INSTALL proDA StartedAt: 2025-10-12 15:34:58 -0400 (Sun, 12 Oct 2025) EndedAt: 2025-10-12 15:35:19 -0400 (Sun, 12 Oct 2025) EllapsedTime: 20.7 seconds RetCode: 0 Status: OK