Package: proDA Version: 1.22.1 Command: /home/biocbuild/bbs-3.21-bioc/R/bin/R CMD build --keep-empty-dirs --no-resave-data proDA StartedAt: 2025-10-12 19:16:16 -0400 (Sun, 12 Oct 2025) EndedAt: 2025-10-12 19:17:39 -0400 (Sun, 12 Oct 2025) EllapsedTime: 83.1 seconds RetCode: 0 Status: OK PackageFile: proDA_1.22.1.tar.gz PackageFileSize: 1.351 MiB