Package: proDA Version: 1.24.0 Command: /Library/Frameworks/R.framework/Resources/bin/R CMD INSTALL proDA StartedAt: 2025-11-03 15:38:46 -0500 (Mon, 03 Nov 2025) EndedAt: 2025-11-03 15:39:15 -0500 (Mon, 03 Nov 2025) EllapsedTime: 28.7 seconds RetCode: 0 Status: OK