Package: proDA Version: 1.24.0 Command: /Library/Frameworks/R.framework/Resources/bin/R CMD build --keep-empty-dirs --no-resave-data proDA StartedAt: 2025-11-03 18:18:16 -0500 (Mon, 03 Nov 2025) EndedAt: 2025-11-03 18:19:42 -0500 (Mon, 03 Nov 2025) EllapsedTime: 86.6 seconds RetCode: 0 Status: OK PackageFile: proDA_1.24.0.tar.gz PackageFileSize: 1.252 MiB