Package: proDA Version: 1.22.1 Command: /Library/Frameworks/R.framework/Resources/bin/R CMD build --keep-empty-dirs --no-resave-data proDA StartedAt: 2025-10-10 07:13:40 -0400 (Fri, 10 Oct 2025) EndedAt: 2025-10-10 07:15:21 -0400 (Fri, 10 Oct 2025) EllapsedTime: 101.0 seconds RetCode: 0 Status: OK PackageFile: proDA_1.22.1.tar.gz PackageFileSize: 1.252 MiB